BEGIN:VCALENDAR
VERSION:2.0
PRODID:icalendar-ruby
CALSCALE:GREGORIAN
METHOD:PUBLISH
BEGIN:VEVENT
DTSTAMP:20260420T225132Z
UID:24-1021490@thebridgeccc.com
DTSTART:20260927T130000Z
DTEND:20260927T141500Z
CLASS:PUBLIC
CREATED:20260420T182454
DESCRIPTION:Our Sunday morning Life Groups meet each week at 9:00. There ar
 e groups for all ages.
LAST-MODIFIED:20260420T182454
LOCATION:
SUMMARY:Sunday School
URL;VALUE=URI:https://thebridgeccc.com/events/sunday-school/2026-09-27
ATTACH;FILENAME=1.featuredimage.jpg;FMTTYPE=image/jpeg:https://dq5pwpg1q8ru
 0.cloudfront.net/2026/03/02/21/45/43/2e6742de-e3a1-414e-9b26-0ad3bd8b4231/
 1.featuredimage.jpg
END:VEVENT
END:VCALENDAR
