BEGIN:VCALENDAR
VERSION:2.0
PRODID:icalendar-ruby
CALSCALE:GREGORIAN
METHOD:PUBLISH
BEGIN:VEVENT
DTSTAMP:20260421T015310Z
UID:7-1021584@thebridgeccc.com
DTSTART:20260927T143000Z
DTEND:20260927T160000Z
CLASS:PUBLIC
CREATED:20260420T205944
DESCRIPTION:We gather for worship each Sunday at 10:30am. We worship throug
 h song\, giving\, prayer\, and the reading and preaching of God's Word. Ev
 eryone is welcome! Come as you are.
LAST-MODIFIED:20260420T205944
LOCATION:
SUMMARY:Sunday Worship
URL;VALUE=URI:https://thebridgeccc.com/events/sunday-worship/2026-09-27
END:VEVENT
END:VCALENDAR
